BEGIN:VCALENDAR
VERSION:2.0
PRODID:Events Booking
BEGIN:VEVENT
UID:69e4d2c1e35c0
SUMMARY:Bonaire Dive Trip
DESCRIPTION:The deposit is a non-refundable deposit for the trip to Bonaire
  on April 4\, 2026. The deposit includes a 3.5% credit card fee.
DTSTART:20260404T000000Z
DTEND:20260411T000000Z
DTSTAMP:20250909T171753Z
ORGANIZER;CN=Sea Level Diving:MAILTO:sealevel@sealeveldiving.com
END:VEVENT
END:VCALENDAR